BEGIN:VCALENDAR
VERSION:2.0
PRODID:-//AI NOW - ECPv6.15.11//NONSGML v1.0//EN
CALSCALE:GREGORIAN
METHOD:PUBLISH
X-WR-CALNAME:AI NOW
X-ORIGINAL-URL:https://ainowevents.com
X-WR-CALDESC:Events for AI NOW
REFRESH-INTERVAL;VALUE=DURATION:PT1H
X-Robots-Tag:noindex
X-PUBLISHED-TTL:PT1H
BEGIN:VTIMEZONE
TZID:Europe/Berlin
BEGIN:DAYLIGHT
TZOFFSETFROM:+0100
TZOFFSETTO:+0200
TZNAME:CEST
DTSTART:20220327T010000
END:DAYLIGHT
BEGIN:STANDARD
TZOFFSETFROM:+0200
TZOFFSETTO:+0100
TZNAME:CET
DTSTART:20221030T010000
END:STANDARD
BEGIN:DAYLIGHT
TZOFFSETFROM:+0100
TZOFFSETTO:+0200
TZNAME:CEST
DTSTART:20230326T010000
END:DAYLIGHT
BEGIN:STANDARD
TZOFFSETFROM:+0200
TZOFFSETTO:+0100
TZNAME:CET
DTSTART:20231029T010000
END:STANDARD
BEGIN:DAYLIGHT
TZOFFSETFROM:+0100
TZOFFSETTO:+0200
TZNAME:CEST
DTSTART:20240331T010000
END:DAYLIGHT
BEGIN:STANDARD
TZOFFSETFROM:+0200
TZOFFSETTO:+0100
TZNAME:CET
DTSTART:20241027T010000
END:STANDARD
END:VTIMEZONE
BEGIN:VTIMEZONE
TZID:Europe/London
BEGIN:DAYLIGHT
TZOFFSETFROM:+0000
TZOFFSETTO:+0100
TZNAME:BST
DTSTART:20220327T010000
END:DAYLIGHT
BEGIN:STANDARD
TZOFFSETFROM:+0100
TZOFFSETTO:+0000
TZNAME:GMT
DTSTART:20221030T010000
END:STANDARD
BEGIN:DAYLIGHT
TZOFFSETFROM:+0000
TZOFFSETTO:+0100
TZNAME:BST
DTSTART:20230326T010000
END:DAYLIGHT
BEGIN:STANDARD
TZOFFSETFROM:+0100
TZOFFSETTO:+0000
TZNAME:GMT
DTSTART:20231029T010000
END:STANDARD
BEGIN:DAYLIGHT
TZOFFSETFROM:+0000
TZOFFSETTO:+0100
TZNAME:BST
DTSTART:20240331T010000
END:DAYLIGHT
BEGIN:STANDARD
TZOFFSETFROM:+0100
TZOFFSETTO:+0000
TZNAME:GMT
DTSTART:20241027T010000
END:STANDARD
END:VTIMEZONE
BEGIN:VEVENT
DTSTART;TZID=Europe/Berlin:20230927T150000
DTEND;TZID=Europe/Berlin:20230927T163000
DTSTAMP:20260420T151411
CREATED:20230807T102200Z
LAST-MODIFIED:20230901T090007Z
UID:613-1695826800-1695832200@ainowevents.com
SUMMARY:Approaches to data security and protection: Insights from 1053 European IT professionals
DESCRIPTION:OwnBackup recently commissioned a third party research report which surveyed 1053 IT leaders with a responsibility for data security and data protection across Europe.\nOrganisations predict IT security to be the biggest spending increase over the next 12 months.\nThe research showed that protecting data and systems from cyberattacks is the top overall IT priority and utilising the cloud for core business applications has gained more importance as an IT priority than any other area in the last 12 months. \nIn this virtual roundtable we will bring IT leaders from across Europe together to discuss these findings\, and best practices for data protection\, security and compliance within their organisation. \nKey takeaways:\n– Understand your responsibilities towards SaaS data protection\n– Understand the risks posed to data held in platforms like Salesforce and ServiceNow\n– Benchmark your organisation against others on preparedness for a data loss or breach\n– Learn how other organisations are approaching data security and protection challenges and where they are focusing investment
URL:https://ainowevents.com/event/approaches-to-data-security-and-protection-insights-from-1053-european-it-professionals/
LOCATION:Virtual – Zoom
ATTACH;FMTTYPE=image/jpeg:https://ainowevents.com/wp-content/uploads/2023/08/OwnBackup-270923-scaled.jpg
END:VEVENT
BEGIN:VEVENT
DTSTART;TZID=Europe/London:20230912T183000
DTEND;TZID=Europe/London:20230912T213000
DTSTAMP:20260420T151411
CREATED:20240827T123855Z
LAST-MODIFIED:20240827T123855Z
UID:3383-1694543400-1694554200@ainowevents.com
SUMMARY:Why SaaS Security Is The Next Endpoint
DESCRIPTION:Recently an article from investigative journalist Bryan Krebs revealed that many public Salesforce sites are leaking private data. \nEnterprises would never consider bringing an endpoint live without security\, so why do they adopt SaaS applications\, such as Salesforce\, without SaaS Security? Traditional tools\, like CASB\, won’t do the job. As enterprise SaaS data breaches continue to make headlines\, security teams must manage increasingly complex\, interconnected SaaS ecosystems. This includes ensuring proper role-based access and avoiding overprovisioning for internal and external users\, inventorying and understanding access rights across third party apps\, verifying that vendor updates don’t affect security settings or introduce misconfigurations. \nDuring our dinner\, we will be discussing how to build a scalable SaaS security program. \n  \nDiscussion Points: \n· The most common misconfigurations and data exposures seen in business-critical SaaS applications\n· Steps for achieving visibility into data access levels throughout your SaaS environments and SaaS-to-SaaS connections\n· The critical components of a comprehensive SaaS security program
URL:https://ainowevents.com/event/why-saas-security-is-the-next-endpoint-3/
LOCATION:KOL Restaurant\, Lower Ground Floor\, 9 Seymour St\, London\, W1H 7BA\, United Kingdom
ATTACH;FMTTYPE=image/jpeg:https://ainowevents.com/wp-content/uploads/2023/07/AppOmni-120923-scaled-1.jpg
END:VEVENT
BEGIN:VEVENT
DTSTART;TZID=Europe/London:20230912T183000
DTEND;TZID=Europe/London:20230912T213000
DTSTAMP:20260420T151411
CREATED:20230726T030044Z
LAST-MODIFIED:20230822T185830Z
UID:536-1694543400-1694554200@ainowevents.com
SUMMARY:Why SaaS Security Is The Next Endpoint
DESCRIPTION:Recently an article from investigative journalist Bryan Krebs revealed that many public Salesforce sites are leaking private data. \nEnterprises would never consider bringing an endpoint live without security\, so why do they adopt SaaS applications\, such as Salesforce\, without SaaS Security? Traditional tools\, like CASB\, won’t do the job. As enterprise SaaS data breaches continue to make headlines\, security teams must manage increasingly complex\, interconnected SaaS ecosystems. This includes ensuring proper role-based access and avoiding overprovisioning for internal and external users\, inventorying and understanding access rights across third party apps\, verifying that vendor updates don’t affect security settings or introduce misconfigurations. \nDuring our dinner\, we will be discussing how to build a scalable SaaS security program. \n  \nDiscussion Points: \n· The most common misconfigurations and data exposures seen in business-critical SaaS applications\n· Steps for achieving visibility into data access levels throughout your SaaS environments and SaaS-to-SaaS connections\n· The critical components of a comprehensive SaaS security program
URL:https://ainowevents.com/event/why-saas-security-is-the-next-endpoint/
LOCATION:KOL Restaurant\, Lower Ground Floor\, 9 Seymour St\, London\, W1H 7BA\, United Kingdom
ATTACH;FMTTYPE=image/jpeg:https://ainowevents.com/wp-content/uploads/2023/07/AppOmni-120923-scaled.jpg
END:VEVENT
END:VCALENDAR